BEGIN:VCALENDAR
VERSION:2.0
PRODID:-//ChamberMaster//Event Calendar 2.0//EN
METHOD:PUBLISH
X-PUBLISHED-TTL:P3D
REFRESH-INTERVAL:P3D
CALSCALE:GREGORIAN
BEGIN:VEVENT
DTSTART:20260613T150000Z
DTEND:20260613T180000Z
X-MICROSOFT-CDO-ALLDAYEVENT:FALSE
SUMMARY:3rd Annual Camshaft Special
DESCRIPTION:Family friendly car show.  Vote for People's Choice and enjoy food truck specialties on site.  Awards also given for Driver's Choice and Best of Show awarded by event Sponsors.
X-ALT-DESC;FMTTYPE=text/html:Family friendly car show.&nbsp\; Vote for People&#39\;s Choice and enjoy food truck specialties on site.&nbsp\; Awards also given for Driver&#39\;s Choice and Best of Show awarded by event Sponsors.
LOCATION:Litchfield Civic Arena
UID:e.218.15764
SEQUENCE:3
DTSTAMP:20260423T021419Z
URL:https://business.litch.com/events/details/3rd-annual-camshaft-special-15764
END:VEVENT

END:VCALENDAR
