BEGIN:VCALENDAR
VERSION:2.0
PRODID:-//ChamberMaster//Event Calendar 2.0//EN
METHOD:PUBLISH
X-PUBLISHED-TTL:P3D
REFRESH-INTERVAL:P3D
CALSCALE:GREGORIAN
BEGIN:VEVENT
DTSTART:20210729T223000Z
DTEND:20210730T013000Z
X-MICROSOFT-CDO-ALLDAYEVENT:FALSE
SUMMARY:Car & Bike Night
DESCRIPTION:Nelsan Horton Post #104 American Legion is excited to host\n\nCar & Bike Night in the Legion Parking lot!\n\nWeekly People's Choice Award.\n\nGreat weekly GIVEAWAYS from our sponsor's!
X-ALT-DESC;FMTTYPE=text/html:Nelsan Horton Post #104 American Legion is excited to host<br />\nCar &amp\; Bike Night in the Legion Parking lot!<br />\nWeekly People&#39\;s Choice Award.<br />\nGreat weekly GIVEAWAYS from our sponsor&#39\;s!
LOCATION:222 N Sibley Ave Litchfield\, MN 55355
UID:e.218.12375
SEQUENCE:3
DTSTAMP:20260423T140133Z
URL:https://business.litch.com/events/details/american-legion-car-bike-night-07-29-2021-12375
END:VEVENT

END:VCALENDAR
