BEGIN:VCALENDAR
VERSION:2.0
PRODID:-//ChamberMaster//Event Calendar 2.0//EN
METHOD:PUBLISH
X-PUBLISHED-TTL:P3D
REFRESH-INTERVAL:P3D
CALSCALE:GREGORIAN
BEGIN:VEVENT
DTSTART:20150418T140000Z
DTEND:20150418T180000Z
X-MICROSOFT-CDO-ALLDAYEVENT:FALSE
SUMMARY:Business & Community Showcase 2015
DESCRIPTION:The Chamber's Business Showcase offers you the opportunity to market your products and services right here in our local market! \n\nWe will be celebrating the 60th Anniversary with the community during the showcase.\n\nFace-to-face marketing gives prospects a unique place to see\, feel and experience your product or service first hand.  Exhibiting enables you to answer questions\, overcome objections\, develop a relationship -- even close a sale on the spot!\n\n\n\nIt is the perfect-fit marketing if you sell your products and services -- or want to expand your market -- in the Litchfield/Meeker County area. \n\nMark it on your calendar \n\nSaturday\, April 18th\, 9:00 a.m.   1:00 p.m. \n\nLitchfield Civic Arena\n\nSee you there!
X-ALT-DESC;FMTTYPE=text/html:<span style="font-size: 14px\;"><span style="font-size: 12px\;">The Chamber&#39\;s Business&nbsp\;Showcase offers you the opportunity to market your products and services right here in our local market!&nbsp\;<br />\nWe will be celebrating the 60th Anniversary with the community during the showcase.<br />\nFace-to-face marketing gives prospects a unique place to see\, feel and experience your product or service first hand.&nbsp\; Exhibiting enables you to answer questions\, overcome objections\, develop a relationship -- even close a sale on the spot!<br />\n<br />\nIt is the perfect-fit marketing if you sell your products and services -- or want to expand your market -- in the Litchfield/Meeker County area.&nbsp\;<br />\nMark it on your calendar&nbsp\;<br />\n<strong><span style="font-size: 14px\;">Saturday\, April 18th\, 9:00 a.m. &ndash\; 1:00 p.m.&nbsp\;</span></strong><br />\nLitchfield Civic Arena<br />\nSee you there!</span></span><br />\n&nbsp\;
LOCATION:Litchfield Civic Arena 900 N Gilman Ave Litchfield MN 55355
UID:e.218.4407
SEQUENCE:3
DTSTAMP:20260424T205636Z
URL:https://business.litch.com/events/details/business-community-showcase-2015-04-18-2015-4407
END:VEVENT

END:VCALENDAR
