BEGIN:VCALENDAR
VERSION:2.0
PRODID:-//ChamberMaster//Event Calendar 2.0//EN
METHOD:PUBLISH
X-PUBLISHED-TTL:P3D
REFRESH-INTERVAL:P3D
CALSCALE:GREGORIAN
BEGIN:VEVENT
DTSTART:20241016T130000Z
DTEND:20241016T210000Z
X-MICROSOFT-CDO-ALLDAYEVENT:FALSE
SUMMARY:Chamber Open House
DESCRIPTION:In celebration of National Support your Chamber of Commerce Day\, and the Chamber office updates\, we would like to formally invite you to our Open House! Catch up with us\, ask questions\, walk through our space and enjoy a treat. All are welcome!
X-ALT-DESC;FMTTYPE=text/html:In celebration of National Support your Chamber of Commerce Day\, and the Chamber office updates\, we would like to formally invite you to our Open House! Catch up with us\, ask questions\, walk through our space and enjoy a treat. All are welcome!&nbsp\;
LOCATION:219 N Sibley Ave Litchfield\, MN
UID:e.218.13172
SEQUENCE:3
DTSTAMP:20260421T035351Z
URL:https://business.litch.com/events/details/chamber-open-house-13172
END:VEVENT

END:VCALENDAR
