BEGIN:VCALENDAR
VERSION:2.0
PRODID:-//ChamberMaster//Event Calendar 2.0//EN
METHOD:PUBLISH
X-PUBLISHED-TTL:P3D
REFRESH-INTERVAL:P3D
CALSCALE:GREGORIAN
BEGIN:VEVENT
DTSTART:20170729T210000Z
DTEND:20170730T040000Z
X-MICROSOFT-CDO-ALLDAYEVENT:FALSE
SUMMARY:New Lungs 4 Life Benefit for Teri (Sanden) Starkey
DESCRIPTION:Teri (Sanden) Starkey has Cystic Fibrosis - a genetic lung disease that has an average lifespan of 35.\n\nAs Teri's lung health is declining\, she us nearing the inevitable reality of needing a double lung transplant.\n\nTeri and her family\, Eric and two young children need your help as they are forced to up-root their life to move to North Carolina where she will continue her care and prepare for a future transplant at Duke University Hospital.\n\nCome\, Help & Support Teri and her family!\n\nBring the Family! Live Music! Silent Auction!
X-ALT-DESC;FMTTYPE=text/html:Teri (Sanden) Starkey has Cystic Fibrosis - a genetic lung disease that has an average lifespan of 35.<br />\nAs Teri&#39\;s lung health is declining\, she us nearing the inevitable reality of needing a double lung transplant.<br />\nTeri and her family\, Eric and two young children need your help as they are forced to up-root their life to move to North Carolina where she will continue her care and prepare for a future transplant at Duke University Hospital.<br />\n<span style="font-size:14px\;"><strong>Come\, Help &amp\; Support Teri and her family!<br />\nBring the Family! Live Music! Silent Auction!</strong></span><br />\n&nbsp\;
LOCATION:Litchfield Eagles Club 389 CSAH 34 S\, Litchfield\, MN 55355
UID:e.218.7544
SEQUENCE:3
DTSTAMP:20260419T231150Z
URL:https://business.litch.com/events/details/new-lungs-4-life-benefit-for-teri-sanden-starkey-7544
END:VEVENT

END:VCALENDAR
