BEGIN:VCALENDAR
VERSION:2.0
PRODID:-//ChamberMaster//Event Calendar 2.0//EN
METHOD:PUBLISH
X-PUBLISHED-TTL:P3D
REFRESH-INTERVAL:P3D
CALSCALE:GREGORIAN
BEGIN:VEVENT
DTSTART:20190622T150000Z
DTEND:20190622T223000Z
X-MICROSOFT-CDO-ALLDAYEVENT:FALSE
SUMMARY:Sibley Centennial Celebration: Forest Foray
DESCRIPTION:Experience Forest Bathing through a meditative hike in the woods to Mt. Tom\, meet a live animal\, and pack a picnic to enjoy while listening to music on the shores of Lake Andrew. Visit the Sibley State Park events calendar online or give us to a call to learn more about specific events and locations. 10-11:30am Forest Bathing\, enjoy a meditative stroll through the woods\, meet at the Interpretive Center 12-1pm Animal LIVE\, meet in the theater of the Interpretive Center 2-3pm Wood Duck Drop-In\, meet in the Interpretive Center 4-5:30pm Music on the Shores of Lake Andrew with Jesse Young\, bring a chair and a blanket and find your spot on the hill by the Lake Andrew campground near the fish cleaning building
X-ALT-DESC;FMTTYPE=text/html:Experience Forest Bathing through a meditative hike in the woods to Mt. Tom\, meet a live animal\, and pack a picnic to enjoy while listening to music on the shores of Lake Andrew. Visit the Sibley State Park events calendar online or give us to a call to learn more about specific events and locations. 10-11:30am Forest Bathing\, enjoy a meditative stroll through the woods\, meet at the Interpretive Center 12-1pm Animal LIVE\, meet in the theater of the Interpretive Center 2-3pm Wood Duck Drop-In\, meet in the Interpretive Center 4-5:30pm Music on the Shores of Lake Andrew with Jesse Young\, bring a chair and a blanket and find your spot on the hill by the Lake Andrew campground near the fish cleaning building
LOCATION:800 Sibley Park Rd\, New London\, MN 56273
UID:e.218.12006
SEQUENCE:3
DTSTAMP:20260422T001433Z
URL:https://business.litch.com/events/details/sibley-centennial-celebration-forest-foray-12006
END:VEVENT

END:VCALENDAR
